BEGIN:VCALENDAR
VERSION:2.0
PRODID:-//Ufisc - ECPv6.15.20//NONSGML v1.0//EN
CALSCALE:GREGORIAN
METHOD:PUBLISH
X-WR-CALNAME:Ufisc
X-ORIGINAL-URL:https://www.ufisc.org
X-WR-CALDESC:Évènements pour Ufisc
REFRESH-INTERVAL;VALUE=DURATION:PT1H
X-Robots-Tag:noindex
X-PUBLISHED-TTL:PT1H
BEGIN:VTIMEZONE
TZID:Europe/Paris
BEGIN:DAYLIGHT
TZOFFSETFROM:+0100
TZOFFSETTO:+0200
TZNAME:CEST
DTSTART:20230326T010000
END:DAYLIGHT
BEGIN:STANDARD
TZOFFSETFROM:+0200
TZOFFSETTO:+0100
TZNAME:CET
DTSTART:20231029T010000
END:STANDARD
BEGIN:DAYLIGHT
TZOFFSETFROM:+0100
TZOFFSETTO:+0200
TZNAME:CEST
DTSTART:20240331T010000
END:DAYLIGHT
BEGIN:STANDARD
TZOFFSETFROM:+0200
TZOFFSETTO:+0100
TZNAME:CET
DTSTART:20241027T010000
END:STANDARD
BEGIN:DAYLIGHT
TZOFFSETFROM:+0100
TZOFFSETTO:+0200
TZNAME:CEST
DTSTART:20250330T010000
END:DAYLIGHT
BEGIN:STANDARD
TZOFFSETFROM:+0200
TZOFFSETTO:+0100
TZNAME:CET
DTSTART:20251026T010000
END:STANDARD
END:VTIMEZONE
BEGIN:VEVENT
DTSTART;TZID=Europe/Paris:20240513T093000
DTEND;TZID=Europe/Paris:20240515T130000
DTSTAMP:20260419T161313
CREATED:20231208T135357Z
LAST-MODIFIED:20231218T165810Z
UID:895-1715592600-1715778000@www.ufisc.org
SUMMARY:POP MIND
DESCRIPTION:POP MIND revient en 2024\, les 13\, 14 et 15 mai\, à l’Antipode MJC (Rennes) ! \nPOP MIND est un temps de rassemblement et de partage pour l’ensemble des organisations et acteur·ices touchant au monde culturel : professionnels\, fédérations\, universitaires\, société civile\, syndicats\, réseaux territoriaux\, associations\, État\, collectivités… \nPOP MIND propose de prendre le temps d’un recul et d’une analyse collective pour construire dès maintenant les solidarités nécessaires à un rebond citoyen. Les initiatives qui émergent partout en France et en Europe montrent une voie possible pour lutter pour les dignités et affirmer de nouveaux droits. \nPOP MIND est un moment de rencontres\, gratuit et ouvert à tous\, qui s’organise selon plusieurs formes de travail (conférences\, tables rondes\, ateliers\, présentations).  \nPOP MIND se présente comme une tentative pour penser et agir en inter-territorialité. C’est-à- dire de sortir des frontières et élaborer des fabriques de territoires en commun. Pour ce faire\, POP MIND parcourt la France et s’ancre à chaque édition dans un territoire et sa région. \nPour l’édition 2024\, POP MIND est co-organisé par l’UFISC (Union Fédérale d’Intervention des Structures Culturelles)\, à Rennes avec l’Antipode MJC et s’inscrit dans un partenariat exceptionnel avec le CRID (Centre de recherche et d’information pour le développement). \nRendez-vous en mai prochain à Rennes\, et en attendant sur le site de l’événement !
URL:https://www.ufisc.org/date/pop-mind/
LOCATION:Antipode\, 75 Av. Jules Maniez\,\, Rennes\, 35000\, France
ATTACH;FMTTYPE=image/png:https://www.ufisc.org/wp-content/uploads/2023/12/Antipode-MJC-Rennes-2.png
END:VEVENT
END:VCALENDAR